BEGIN:VCALENDAR
VERSION:2.0
PRODID:-//All Saints Catholic College - ECPv6.15.20//NONSGML v1.0//EN
CALSCALE:GREGORIAN
METHOD:PUBLISH
X-ORIGINAL-URL:https://www.aschc.co.uk
X-WR-CALDESC:Events for All Saints Catholic College
REFRESH-INTERVAL;VALUE=DURATION:PT1H
X-Robots-Tag:noindex
X-PUBLISHED-TTL:PT1H
BEGIN:VTIMEZONE
TZID:Europe/London
BEGIN:DAYLIGHT
TZOFFSETFROM:+0000
TZOFFSETTO:+0100
TZNAME:BST
DTSTART:20210328T010000
END:DAYLIGHT
BEGIN:STANDARD
TZOFFSETFROM:+0100
TZOFFSETTO:+0000
TZNAME:GMT
DTSTART:20211031T010000
END:STANDARD
BEGIN:DAYLIGHT
TZOFFSETFROM:+0000
TZOFFSETTO:+0100
TZNAME:BST
DTSTART:20220327T010000
END:DAYLIGHT
BEGIN:STANDARD
TZOFFSETFROM:+0100
TZOFFSETTO:+0000
TZNAME:GMT
DTSTART:20221030T010000
END:STANDARD
BEGIN:DAYLIGHT
TZOFFSETFROM:+0000
TZOFFSETTO:+0100
TZNAME:BST
DTSTART:20230326T010000
END:DAYLIGHT
BEGIN:STANDARD
TZOFFSETFROM:+0100
TZOFFSETTO:+0000
TZNAME:GMT
DTSTART:20231029T010000
END:STANDARD
END:VTIMEZONE
BEGIN:VEVENT
DTSTART;TZID=Europe/London:20220210T100000
DTEND;TZID=Europe/London:20220210T110000
DTSTAMP:20260423T023141
CREATED:20220627T091934Z
LAST-MODIFIED:20220627T091934Z
UID:24497-1644487200-1644490800@www.aschc.co.uk
SUMMARY:Parents' Forum - Sexual Harassment and Harmful Behaviours
DESCRIPTION:
URL:https://www.aschc.co.uk/event/parents-forum-sexual-harassment-and-harmful-behaviours/
END:VEVENT
END:VCALENDAR