BEGIN:VCALENDAR
VERSION:2.0
PRODID:-//All Saints Catholic College - ECPv6.15.20//NONSGML v1.0//EN
CALSCALE:GREGORIAN
METHOD:PUBLISH
X-WR-CALNAME:All Saints Catholic College
X-ORIGINAL-URL:https://www.aschc.co.uk
X-WR-CALDESC:Events for All Saints Catholic College
REFRESH-INTERVAL;VALUE=DURATION:PT1H
X-Robots-Tag:noindex
X-PUBLISHED-TTL:PT1H
BEGIN:VTIMEZONE
TZID:Europe/London
BEGIN:DAYLIGHT
TZOFFSETFROM:+0000
TZOFFSETTO:+0100
TZNAME:BST
DTSTART:20190331T010000
END:DAYLIGHT
BEGIN:STANDARD
TZOFFSETFROM:+0100
TZOFFSETTO:+0000
TZNAME:GMT
DTSTART:20191027T010000
END:STANDARD
BEGIN:DAYLIGHT
TZOFFSETFROM:+0000
TZOFFSETTO:+0100
TZNAME:BST
DTSTART:20200329T010000
END:DAYLIGHT
BEGIN:STANDARD
TZOFFSETFROM:+0100
TZOFFSETTO:+0000
TZNAME:GMT
DTSTART:20201025T010000
END:STANDARD
BEGIN:DAYLIGHT
TZOFFSETFROM:+0000
TZOFFSETTO:+0100
TZNAME:BST
DTSTART:20210328T010000
END:DAYLIGHT
BEGIN:STANDARD
TZOFFSETFROM:+0100
TZOFFSETTO:+0000
TZNAME:GMT
DTSTART:20211031T010000
END:STANDARD
END:VTIMEZONE
BEGIN:VEVENT
DTSTART;VALUE=DATE:20200605
DTEND;VALUE=DATE:20200606
DTSTAMP:20260424T070555
CREATED:20200306T134721Z
LAST-MODIFIED:20200306T134721Z
UID:18005-1591315200-1591401599@www.aschc.co.uk
SUMMARY:Drop Down Day
DESCRIPTION:
URL:https://www.aschc.co.uk/event/drop-down-day/
END:VEVENT
BEGIN:VEVENT
DTSTART;TZID=Europe/London:20200611T170000
DTEND;TZID=Europe/London:20200611T190000
DTSTAMP:20260424T070555
CREATED:20191104T122441Z
LAST-MODIFIED:20191104T122441Z
UID:17008-1591894800-1591902000@www.aschc.co.uk
SUMMARY:Year 9 - Parents Evening
DESCRIPTION:
URL:https://www.aschc.co.uk/event/year-9-parents-evening/
CATEGORIES:Parents Evening
END:VEVENT
END:VCALENDAR