BEGIN:VCALENDAR
VERSION:2.0
PRODID:-//All Saints Catholic College - ECPv6.15.20//NONSGML v1.0//EN
CALSCALE:GREGORIAN
METHOD:PUBLISH
X-WR-CALNAME:All Saints Catholic College
X-ORIGINAL-URL:https://www.aschc.co.uk
X-WR-CALDESC:Events for All Saints Catholic College
REFRESH-INTERVAL;VALUE=DURATION:PT1H
X-Robots-Tag:noindex
X-PUBLISHED-TTL:PT1H
BEGIN:VTIMEZONE
TZID:Europe/London
BEGIN:DAYLIGHT
TZOFFSETFROM:+0000
TZOFFSETTO:+0100
TZNAME:BST
DTSTART:20190331T010000
END:DAYLIGHT
BEGIN:STANDARD
TZOFFSETFROM:+0100
TZOFFSETTO:+0000
TZNAME:GMT
DTSTART:20191027T010000
END:STANDARD
BEGIN:DAYLIGHT
TZOFFSETFROM:+0000
TZOFFSETTO:+0100
TZNAME:BST
DTSTART:20200329T010000
END:DAYLIGHT
BEGIN:STANDARD
TZOFFSETFROM:+0100
TZOFFSETTO:+0000
TZNAME:GMT
DTSTART:20201025T010000
END:STANDARD
BEGIN:DAYLIGHT
TZOFFSETFROM:+0000
TZOFFSETTO:+0100
TZNAME:BST
DTSTART:20210328T010000
END:DAYLIGHT
BEGIN:STANDARD
TZOFFSETFROM:+0100
TZOFFSETTO:+0000
TZNAME:GMT
DTSTART:20211031T010000
END:STANDARD
END:VTIMEZONE
BEGIN:VEVENT
DTSTART;VALUE=DATE:20200505
DTEND;VALUE=DATE:20200506
DTSTAMP:20260424T081751
CREATED:20200306T134141Z
LAST-MODIFIED:20200306T134141Z
UID:17995-1588636800-1588723199@www.aschc.co.uk
SUMMARY:RAF-Air Cadets Y8 Assembly
DESCRIPTION:
URL:https://www.aschc.co.uk/event/raf-air-cadets-y8-assemby/
END:VEVENT
BEGIN:VEVENT
DTSTART;VALUE=DATE:20200508
DTEND;VALUE=DATE:20200509
DTSTAMP:20260424T081751
CREATED:20190610T115736Z
LAST-MODIFIED:20190610T115736Z
UID:14992-1588896000-1588982399@www.aschc.co.uk
SUMMARY:May Day - Bank Holiday
DESCRIPTION:
URL:https://www.aschc.co.uk/event/may-day-bank-holiday/
END:VEVENT
BEGIN:VEVENT
DTSTART;VALUE=DATE:20200513
DTEND;VALUE=DATE:20200514
DTSTAMP:20260424T081751
CREATED:20200306T134518Z
LAST-MODIFIED:20200306T134518Z
UID:18001-1589328000-1589414399@www.aschc.co.uk
SUMMARY:HPV Injections Y8
DESCRIPTION:
URL:https://www.aschc.co.uk/event/hpv-injections-y8/
END:VEVENT
END:VCALENDAR