BEGIN:VCALENDAR
VERSION:2.0
PRODID:-//All Saints Catholic College - ECPv6.15.20//NONSGML v1.0//EN
CALSCALE:GREGORIAN
METHOD:PUBLISH
X-WR-CALNAME:All Saints Catholic College
X-ORIGINAL-URL:https://www.aschc.co.uk
X-WR-CALDESC:Events for All Saints Catholic College
REFRESH-INTERVAL;VALUE=DURATION:PT1H
X-Robots-Tag:noindex
X-PUBLISHED-TTL:PT1H
BEGIN:VTIMEZONE
TZID:Europe/London
BEGIN:DAYLIGHT
TZOFFSETFROM:+0000
TZOFFSETTO:+0100
TZNAME:BST
DTSTART:20190331T010000
END:DAYLIGHT
BEGIN:STANDARD
TZOFFSETFROM:+0100
TZOFFSETTO:+0000
TZNAME:GMT
DTSTART:20191027T010000
END:STANDARD
BEGIN:DAYLIGHT
TZOFFSETFROM:+0000
TZOFFSETTO:+0100
TZNAME:BST
DTSTART:20200329T010000
END:DAYLIGHT
BEGIN:STANDARD
TZOFFSETFROM:+0100
TZOFFSETTO:+0000
TZNAME:GMT
DTSTART:20201025T010000
END:STANDARD
BEGIN:DAYLIGHT
TZOFFSETFROM:+0000
TZOFFSETTO:+0100
TZNAME:BST
DTSTART:20210328T010000
END:DAYLIGHT
BEGIN:STANDARD
TZOFFSETFROM:+0100
TZOFFSETTO:+0000
TZNAME:GMT
DTSTART:20211031T010000
END:STANDARD
END:VTIMEZONE
BEGIN:VEVENT
DTSTART;VALUE=DATE:20200226
DTEND;VALUE=DATE:20200410
DTSTAMP:20260424T104701
CREATED:20200225T134048Z
LAST-MODIFIED:20200225T134048Z
UID:17877-1582675200-1586476799@www.aschc.co.uk
SUMMARY:Lent
DESCRIPTION:Lent begins on Ash Wednesday which is the 26th of February and ends Thursday the 9th of April. Lent is the season of reflection and involves preparing for the celebration of Easter.
URL:https://www.aschc.co.uk/event/lent/
ATTACH;FMTTYPE=image/jpeg:https://www.aschc.co.uk/my_uploads/2020/02/lent-scaled-1.jpg
END:VEVENT
BEGIN:VEVENT
DTSTART;VALUE=DATE:20200309
DTEND;VALUE=DATE:20200311
DTSTAMP:20260424T104701
CREATED:20200306T131142Z
LAST-MODIFIED:20200306T131142Z
UID:17986-1583712000-1583884799@www.aschc.co.uk
SUMMARY:Greenhead College Interviews
DESCRIPTION:
URL:https://www.aschc.co.uk/event/greenhead-college/
END:VEVENT
BEGIN:VEVENT
DTSTART;VALUE=DATE:20200318
DTEND;VALUE=DATE:20200319
DTSTAMP:20260424T104701
CREATED:20200306T132102Z
LAST-MODIFIED:20200306T132102Z
UID:17989-1584489600-1584575999@www.aschc.co.uk
SUMMARY:Kirklees College Y11 Interviews
DESCRIPTION:
URL:https://www.aschc.co.uk/event/kirklees-college-y11-interviews/
END:VEVENT
BEGIN:VEVENT
DTSTART;TZID=Europe/London:20200319T170000
DTEND;TZID=Europe/London:20200319T190000
DTSTAMP:20260424T104701
CREATED:20191104T122107Z
LAST-MODIFIED:20191104T122107Z
UID:17004-1584637200-1584644400@www.aschc.co.uk
SUMMARY:Year 8 - Parents Evening
DESCRIPTION:
URL:https://www.aschc.co.uk/event/year-8-parents-evening/
CATEGORIES:Parents Evening
END:VEVENT
END:VCALENDAR