BEGIN:VCALENDAR
VERSION:2.0
PRODID:-//All Saints Catholic College - ECPv6.15.20//NONSGML v1.0//EN
CALSCALE:GREGORIAN
METHOD:PUBLISH
X-WR-CALNAME:All Saints Catholic College
X-ORIGINAL-URL:https://www.aschc.co.uk
X-WR-CALDESC:Events for All Saints Catholic College
REFRESH-INTERVAL;VALUE=DURATION:PT1H
X-Robots-Tag:noindex
X-PUBLISHED-TTL:PT1H
BEGIN:VTIMEZONE
TZID:Europe/London
BEGIN:DAYLIGHT
TZOFFSETFROM:+0000
TZOFFSETTO:+0100
TZNAME:BST
DTSTART:20180325T010000
END:DAYLIGHT
BEGIN:STANDARD
TZOFFSETFROM:+0100
TZOFFSETTO:+0000
TZNAME:GMT
DTSTART:20181028T010000
END:STANDARD
BEGIN:DAYLIGHT
TZOFFSETFROM:+0000
TZOFFSETTO:+0100
TZNAME:BST
DTSTART:20190331T010000
END:DAYLIGHT
BEGIN:STANDARD
TZOFFSETFROM:+0100
TZOFFSETTO:+0000
TZNAME:GMT
DTSTART:20191027T010000
END:STANDARD
BEGIN:DAYLIGHT
TZOFFSETFROM:+0000
TZOFFSETTO:+0100
TZNAME:BST
DTSTART:20200329T010000
END:DAYLIGHT
BEGIN:STANDARD
TZOFFSETFROM:+0100
TZOFFSETTO:+0000
TZNAME:GMT
DTSTART:20201025T010000
END:STANDARD
BEGIN:DAYLIGHT
TZOFFSETFROM:+0000
TZOFFSETTO:+0100
TZNAME:BST
DTSTART:20210328T010000
END:DAYLIGHT
BEGIN:STANDARD
TZOFFSETFROM:+0100
TZOFFSETTO:+0000
TZNAME:GMT
DTSTART:20211031T010000
END:STANDARD
END:VTIMEZONE
BEGIN:VEVENT
DTSTART;TZID=Europe/London:20191204T180000
DTEND;TZID=Europe/London:20191204T193000
DTSTAMP:20260424T141011
CREATED:20191010T140457Z
LAST-MODIFIED:20191010T140457Z
UID:16794-1575482400-1575487800@www.aschc.co.uk
SUMMARY:Ski Trip Parents' Meeting
DESCRIPTION:
URL:https://www.aschc.co.uk/event/ski-trip-parents-meeting/
END:VEVENT
BEGIN:VEVENT
DTSTART;TZID=Europe/London:20191205T170000
DTEND;TZID=Europe/London:20191205T190000
DTSTAMP:20260424T141011
CREATED:20191104T120710Z
LAST-MODIFIED:20191104T120710Z
UID:16995-1575565200-1575572400@www.aschc.co.uk
SUMMARY:Year 11 - Parents Evening
DESCRIPTION:
URL:https://www.aschc.co.uk/event/year-11-parents-evening/
CATEGORIES:Parents Evening
END:VEVENT
BEGIN:VEVENT
DTSTART;TZID=Europe/London:20191211T180000
DTEND;TZID=Europe/London:20191211T190000
DTSTAMP:20260424T141011
CREATED:20191202T103510Z
LAST-MODIFIED:20191202T103510Z
UID:17386-1576087200-1576090800@www.aschc.co.uk
SUMMARY:Advent Service
DESCRIPTION:
URL:https://www.aschc.co.uk/event/advent-service-2/
END:VEVENT
BEGIN:VEVENT
DTSTART;TZID=Europe/London:20191218T190000
DTEND;TZID=Europe/London:20191218T210000
DTSTAMP:20260424T141011
CREATED:20191202T103906Z
LAST-MODIFIED:20191202T103906Z
UID:17392-1576695600-1576702800@www.aschc.co.uk
SUMMARY:Key Stage 3 - Disco
DESCRIPTION:The key stage 3 disco will be held from 7-9pm\, tickets will cost £2.
URL:https://www.aschc.co.uk/event/key-stage-3-disco/
END:VEVENT
BEGIN:VEVENT
DTSTART;VALUE=DATE:20191220
DTEND;VALUE=DATE:20191221
DTSTAMP:20260424T141011
CREATED:20191010T140711Z
LAST-MODIFIED:20191010T140711Z
UID:16796-1576800000-1576886399@www.aschc.co.uk
SUMMARY:Christmas Jumper Day
DESCRIPTION:
URL:https://www.aschc.co.uk/event/christmas-jumper-day/
END:VEVENT
BEGIN:VEVENT
DTSTART;VALUE=DATE:20191223
DTEND;VALUE=DATE:20200104
DTSTAMP:20260424T141011
CREATED:20191010T141016Z
LAST-MODIFIED:20191010T141016Z
UID:16798-1577059200-1578095999@www.aschc.co.uk
SUMMARY:Christmas Holidays
DESCRIPTION:
URL:https://www.aschc.co.uk/event/christmas-holidays/
END:VEVENT
END:VCALENDAR