BEGIN:VCALENDAR
VERSION:2.0
PRODID:-//All Saints Catholic College - ECPv6.15.20//NONSGML v1.0//EN
CALSCALE:GREGORIAN
METHOD:PUBLISH
X-ORIGINAL-URL:https://www.aschc.co.uk
X-WR-CALDESC:Events for All Saints Catholic College
REFRESH-INTERVAL;VALUE=DURATION:PT1H
X-Robots-Tag:noindex
X-PUBLISHED-TTL:PT1H
BEGIN:VTIMEZONE
TZID:Europe/London
BEGIN:DAYLIGHT
TZOFFSETFROM:+0000
TZOFFSETTO:+0100
TZNAME:BST
DTSTART:20180325T010000
END:DAYLIGHT
BEGIN:STANDARD
TZOFFSETFROM:+0100
TZOFFSETTO:+0000
TZNAME:GMT
DTSTART:20181028T010000
END:STANDARD
BEGIN:DAYLIGHT
TZOFFSETFROM:+0000
TZOFFSETTO:+0100
TZNAME:BST
DTSTART:20190331T010000
END:DAYLIGHT
BEGIN:STANDARD
TZOFFSETFROM:+0100
TZOFFSETTO:+0000
TZNAME:GMT
DTSTART:20191027T010000
END:STANDARD
BEGIN:DAYLIGHT
TZOFFSETFROM:+0000
TZOFFSETTO:+0100
TZNAME:BST
DTSTART:20200329T010000
END:DAYLIGHT
BEGIN:STANDARD
TZOFFSETFROM:+0100
TZOFFSETTO:+0000
TZNAME:GMT
DTSTART:20201025T010000
END:STANDARD
END:VTIMEZONE
BEGIN:VEVENT
DTSTART;VALUE=DATE:20190101
DTEND;VALUE=DATE:20190102
DTSTAMP:20260425T014923
CREATED:20181203T093854Z
LAST-MODIFIED:20181203T093854Z
UID:9456-1546300800-1546387199@www.aschc.co.uk
SUMMARY:New Year's Day
DESCRIPTION:
URL:https://www.aschc.co.uk/event/new-years-day/
END:VEVENT
BEGIN:VEVENT
DTSTART;VALUE=DATE:20190117
DTEND;VALUE=DATE:20190118
DTSTAMP:20260425T014923
CREATED:20181203T093022Z
LAST-MODIFIED:20181203T093022Z
UID:9454-1547683200-1547769599@www.aschc.co.uk
SUMMARY:Parents Evening
DESCRIPTION:
URL:https://www.aschc.co.uk/event/parents-evening-6/
CATEGORIES:Careers
END:VEVENT
BEGIN:VEVENT
DTSTART;VALUE=DATE:20190123
DTEND;VALUE=DATE:20190124
DTSTAMP:20260425T014923
CREATED:20181203T092901Z
LAST-MODIFIED:20181203T092901Z
UID:9452-1548201600-1548287999@www.aschc.co.uk
SUMMARY:Friends
DESCRIPTION:
URL:https://www.aschc.co.uk/event/friends-4/
END:VEVENT
END:VCALENDAR